Package: SingleCellExperiment Version: 1.33.0 Command: /home/rapidbuild/bbs-3.23-bioc-rapid/R/bin/R CMD INSTALL SingleCellExperiment StartedAt: 2025-11-23 06:14:45 -0500 (Sun, 23 Nov 2025) EndedAt: 2025-11-23 06:15:06 -0500 (Sun, 23 Nov 2025) EllapsedTime: 21.3 seconds RetCode: 0 Status: OK