Package: SingleCellExperiment Version: 1.33.0 Command: /home/rapidbuild/bbs-3.23-bioc-rapid/R/bin/R CMD build --keep-empty-dirs --no-resave-data SingleCellExperiment StartedAt: 2025-11-23 07:32:06 -0500 (Sun, 23 Nov 2025) EndedAt: 2025-11-23 07:33:05 -0500 (Sun, 23 Nov 2025) EllapsedTime: 58.3 seconds RetCode: 0 Status: OK PackageFile: SingleCellExperiment_1.33.0.tar.gz PackageFileSize: 962.7 KiB