Package: ScaledMatrix Version: 1.17.0 Command: /home/rapidbuild/bbs-3.22-bioc-rapid/R/bin/R CMD INSTALL ScaledMatrix StartedAt: 2025-10-14 12:14:08 -0400 (Tue, 14 Oct 2025) EndedAt: 2025-10-14 12:14:22 -0400 (Tue, 14 Oct 2025) EllapsedTime: 14.4 seconds RetCode: 0 Status: OK