Package: ScaledMatrix Version: 1.17.0 Command: /home/rapidbuild/bbs-3.22-bioc-rapid/R/bin/R CMD build --keep-empty-dirs --no-resave-data ScaledMatrix StartedAt: 2025-10-14 13:26:15 -0400 (Tue, 14 Oct 2025) EndedAt: 2025-10-14 13:28:22 -0400 (Tue, 14 Oct 2025) EllapsedTime: 126.6 seconds RetCode: 0 Status: OK PackageFile: ScaledMatrix_1.17.0.tar.gz PackageFileSize: 306.5 KiB