Package: S4Arrays Version: 1.11.0 Command: /home/rapidbuild/bbs-3.23-bioc-rapid/R/bin/R CMD INSTALL S4Arrays StartedAt: 2025-10-31 06:13:22 -0400 (Fri, 31 Oct 2025) EndedAt: 2025-10-31 06:13:35 -0400 (Fri, 31 Oct 2025) EllapsedTime: 12.6 seconds RetCode: 0 Status: OK