Package: S4Arrays Version: 1.11.0 Command: /home/rapidbuild/bbs-3.23-bioc-rapid/R/bin/R CMD build --keep-empty-dirs --no-resave-data S4Arrays StartedAt: 2025-10-31 07:20:42 -0400 (Fri, 31 Oct 2025) EndedAt: 2025-10-31 07:20:59 -0400 (Fri, 31 Oct 2025) EllapsedTime: 16.3 seconds RetCode: 0 Status: OK PackageFile: S4Arrays_1.11.0.tar.gz PackageFileSize: 288.2 KiB