Back to Rapid builds (Linux only) of a subset of BioC 3.23
Report updated every 6 hours

This page was generated on 2025-11-02 09:42 -0500 (Sun, 02 Nov 2025).

HostnameOSArch (*)R versionInstalled pkgs
teran2Linux (Ubuntu 24.04.3 LTS)x86_64R Under development (unstable) (2025-10-28 r88973) -- "Unsuffered Consequences" 917
Click on any hostname to see more info about the system (e.g. compilers)      (*) as reported by 'uname -p', except on Windows and Mac OS X

All results for package Rhtslib


To the developers/maintainers of the Rhtslib package:
- Use the following Renviron settings to reproduce errors and warnings.
- If 'R CMD check' started to fail recently on the Linux builder(s) over a missing dependency, add the missing dependency to 'Suggests:' in your DESCRIPTION file. See Renviron.bioc for more information.

raw results

Package 182/230HostnameOS / ArchINSTALLBUILDCHECK
Rhtslib 3.7.0  (landing page)
Hervé Pagès
Snapshot Date: 2025-11-02 06:00 -0500 (Sun, 02 Nov 2025)
git_url: https://git.bioconductor.org/packages/Rhtslib
git_branch: devel
git_last_commit: 0dcad2a
git_last_commit_date: 2025-10-29 14:52:40 -0500 (Wed, 29 Oct 2025)
teran2Linux (Ubuntu 24.04.3 LTS) / x86_64  OK    OK    OK