Package: Rgraphviz Version: 2.53.0 Command: /home/rapidbuild/bbs-3.22-bioc-rapid/R/bin/R CMD INSTALL Rgraphviz StartedAt: 2025-10-10 06:10:11 -0400 (Fri, 10 Oct 2025) EndedAt: 2025-10-10 06:11:40 -0400 (Fri, 10 Oct 2025) EllapsedTime: 89.5 seconds RetCode: 0 Status: OK