Package: Rgraphviz Version: 2.53.0 Command: /home/rapidbuild/bbs-3.22-bioc-rapid/R/bin/R CMD build --keep-empty-dirs --no-resave-data Rgraphviz StartedAt: 2025-10-10 07:18:51 -0400 (Fri, 10 Oct 2025) EndedAt: 2025-10-10 07:20:10 -0400 (Fri, 10 Oct 2025) EllapsedTime: 78.2 seconds RetCode: 0 Status: OK PackageFile: Rgraphviz_2.53.0.tar.gz PackageFileSize: 7.31 MiB