Package: ResidualMatrix Version: 1.19.0 Command: /home/rapidbuild/bbs-3.22-bioc-rapid/R/bin/R CMD build --keep-empty-dirs --no-resave-data ResidualMatrix StartedAt: 2025-10-14 13:21:07 -0400 (Tue, 14 Oct 2025) EndedAt: 2025-10-14 13:21:46 -0400 (Tue, 14 Oct 2025) EllapsedTime: 38.6 seconds RetCode: 0 Status: OK PackageFile: ResidualMatrix_1.19.0.tar.gz PackageFileSize: 379.3 KiB