Package: ReportingTools Version: 2.49.0 Command: /home/rapidbuild/bbs-3.22-bioc-rapid/R/bin/R CMD INSTALL ReportingTools StartedAt: 2025-10-14 12:27:02 -0400 (Tue, 14 Oct 2025) EndedAt: 2025-10-14 12:27:59 -0400 (Tue, 14 Oct 2025) EllapsedTime: 57.7 seconds RetCode: 0 Status: OK