Package: ReportingTools Version: 2.49.0 Command: /home/rapidbuild/bbs-3.22-bioc-rapid/R/bin/R CMD build --keep-empty-dirs --no-resave-data ReportingTools StartedAt: 2025-10-14 13:20:32 -0400 (Tue, 14 Oct 2025) EndedAt: 2025-10-14 13:21:34 -0400 (Tue, 14 Oct 2025) EllapsedTime: 62.6 seconds RetCode: 0 Status: OK PackageFile: ReportingTools_2.49.0.tar.gz PackageFileSize: 1.786 MiB