Package: RaggedExperiment Version: 1.35.0 Command: /home/rapidbuild/bbs-3.23-bioc-rapid/R/bin/R CMD INSTALL RaggedExperiment StartedAt: 2025-11-22 06:16:07 -0500 (Sat, 22 Nov 2025) EndedAt: 2025-11-22 06:16:28 -0500 (Sat, 22 Nov 2025) EllapsedTime: 20.5 seconds RetCode: 0 Status: OK