Package: RaggedExperiment Version: 1.35.0 Command: /home/rapidbuild/bbs-3.23-bioc-rapid/R/bin/R CMD build --keep-empty-dirs --no-resave-data RaggedExperiment StartedAt: 2025-11-22 07:20:51 -0500 (Sat, 22 Nov 2025) EndedAt: 2025-11-22 07:21:22 -0500 (Sat, 22 Nov 2025) EllapsedTime: 31.0 seconds RetCode: 0 Status: OK PackageFile: RaggedExperiment_1.35.0.tar.gz PackageFileSize: 670.3 KiB