Package: RProtoBufLib Version: 2.21.0 Command: /home/rapidbuild/bbs-3.22-bioc-rapid/R/bin/R CMD INSTALL RProtoBufLib StartedAt: 2025-10-06 06:04:26 -0400 (Mon, 06 Oct 2025) EndedAt: 2025-10-06 06:08:13 -0400 (Mon, 06 Oct 2025) EllapsedTime: 227.8 seconds RetCode: 0 Status: OK