Package: RProtoBufLib Version: 2.21.0 Command: /home/rapidbuild/bbs-3.22-bioc-rapid/R/bin/R CMD build --keep-empty-dirs --no-resave-data RProtoBufLib StartedAt: 2025-10-06 07:20:35 -0400 (Mon, 06 Oct 2025) EndedAt: 2025-10-06 07:24:21 -0400 (Mon, 06 Oct 2025) EllapsedTime: 226.2 seconds RetCode: 0 Status: OK PackageFile: RProtoBufLib_2.21.0.tar.gz PackageFileSize: 2.84 MiB