Package: QFeatures Version: 1.21.0 Command: /home/rapidbuild/bbs-3.23-bioc-rapid/R/bin/R CMD build --keep-empty-dirs --no-resave-data QFeatures StartedAt: 2025-11-21 07:20:43 -0500 (Fri, 21 Nov 2025) EndedAt: 2025-11-21 07:21:57 -0500 (Fri, 21 Nov 2025) EllapsedTime: 73.9 seconds RetCode: 0 Status: OK PackageFile: QFeatures_1.21.0.tar.gz PackageFileSize: 5.511 MiB