Package: ProtGenerics Version: 1.41.0 Command: /home/rapidbuild/bbs-3.22-bioc-rapid/R/bin/R CMD INSTALL ProtGenerics StartedAt: 2025-10-09 06:11:39 -0400 (Thu, 09 Oct 2025) EndedAt: 2025-10-09 06:11:41 -0400 (Thu, 09 Oct 2025) EllapsedTime: 2.0 seconds RetCode: 0 Status: OK