Package: MultiAssayExperiment Version: 1.35.9 Command: /home/rapidbuild/bbs-3.22-bioc-rapid/R/bin/R CMD INSTALL MultiAssayExperiment StartedAt: 2025-10-10 06:21:58 -0400 (Fri, 10 Oct 2025) EndedAt: 2025-10-10 06:22:23 -0400 (Fri, 10 Oct 2025) EllapsedTime: 25.4 seconds RetCode: 0 Status: OK