Package: MultiAssayExperiment Version: 1.35.9 Command: /home/rapidbuild/bbs-3.22-bioc-rapid/R/bin/R CMD build --keep-empty-dirs --no-resave-data MultiAssayExperiment StartedAt: 2025-10-10 07:11:47 -0400 (Fri, 10 Oct 2025) EndedAt: 2025-10-10 07:12:33 -0400 (Fri, 10 Oct 2025) EllapsedTime: 46.2 seconds RetCode: 0 Status: OK PackageFile: MultiAssayExperiment_1.35.9.tar.gz PackageFileSize: 1.319 MiB