Package: MsFeatures Version: 1.17.1 Command: /home/rapidbuild/bbs-3.22-bioc-rapid/R/bin/R CMD INSTALL MsFeatures StartedAt: 2025-10-09 06:16:38 -0400 (Thu, 09 Oct 2025) EndedAt: 2025-10-09 06:16:55 -0400 (Thu, 09 Oct 2025) EllapsedTime: 16.7 seconds RetCode: 0 Status: OK