Package: MsExperiment Version: 1.13.0 Command: /home/rapidbuild/bbs-3.23-bioc-rapid/R/bin/R CMD INSTALL MsExperiment StartedAt: 2025-11-21 06:25:28 -0500 (Fri, 21 Nov 2025) EndedAt: 2025-11-21 06:25:54 -0500 (Fri, 21 Nov 2025) EllapsedTime: 25.4 seconds RetCode: 0 Status: OK