Package: MsExperiment Version: 1.13.0 Command: /home/rapidbuild/bbs-3.23-bioc-rapid/R/bin/R CMD build --keep-empty-dirs --no-resave-data MsExperiment StartedAt: 2025-11-21 07:14:27 -0500 (Fri, 21 Nov 2025) EndedAt: 2025-11-21 07:15:23 -0500 (Fri, 21 Nov 2025) EllapsedTime: 56.0 seconds RetCode: 0 Status: OK PackageFile: MsExperiment_1.13.0.tar.gz PackageFileSize: 1.917 MiB