Package: MsDataHub Version: 1.11.0 Command: /home/rapidbuild/bbs-3.23-bioc-rapid/R/bin/R CMD INSTALL MsDataHub StartedAt: 2025-11-19 06:21:39 -0500 (Wed, 19 Nov 2025) EndedAt: 2025-11-19 06:21:49 -0500 (Wed, 19 Nov 2025) EllapsedTime: 10.4 seconds RetCode: 0 Status: OK