Package: MsCoreUtils Version: 1.21.0 Command: /home/rapidbuild/bbs-3.22-bioc-rapid/R/bin/R CMD check --install=check:MsCoreUtils.install-out.txt --library=/home/rapidbuild/bbs-3.22-bioc-rapid/R/site-library --timings MsCoreUtils_1.21.0.tar.gz StartedAt: 2025-10-29 07:58:33 -0400 (Wed, 29 Oct 2025) EndedAt: 2025-10-29 07:59:25 -0400 (Wed, 29 Oct 2025) EllapsedTime: 51.9 seconds RetCode: 1 Status: ERROR CheckDir: MsCoreUtils.Rcheck Warnings: NA