Package: MsBackendMgf Version: 1.19.0 Command: /home/rapidbuild/bbs-3.23-bioc-rapid/R/bin/R CMD INSTALL MsBackendMgf StartedAt: 2025-10-31 06:21:02 -0400 (Fri, 31 Oct 2025) EndedAt: 2025-10-31 06:21:09 -0400 (Fri, 31 Oct 2025) EllapsedTime: 7.2 seconds RetCode: 0 Status: OK