Package: MsBackendMgf Version: 1.19.0 Command: /home/rapidbuild/bbs-3.23-bioc-rapid/R/bin/R CMD build --keep-empty-dirs --no-resave-data MsBackendMgf StartedAt: 2025-10-31 07:07:02 -0400 (Fri, 31 Oct 2025) EndedAt: 2025-10-31 07:07:15 -0400 (Fri, 31 Oct 2025) EllapsedTime: 13.0 seconds RetCode: 0 Status: OK PackageFile: MsBackendMgf_1.19.0.tar.gz PackageFileSize: 335.8 KiB