Package: MatrixGenerics Version: 1.21.0 Command: /home/rapidbuild/bbs-3.22-bioc-rapid/R/bin/R CMD INSTALL MatrixGenerics StartedAt: 2025-10-07 06:08:33 -0400 (Tue, 07 Oct 2025) EndedAt: 2025-10-07 06:08:36 -0400 (Tue, 07 Oct 2025) EllapsedTime: 3.2 seconds RetCode: 0 Status: OK