Package: MassSpecWavelet Version: 1.75.1 Command: /home/rapidbuild/bbs-3.22-bioc-rapid/R/bin/R CMD INSTALL MassSpecWavelet StartedAt: 2025-10-14 12:04:34 -0400 (Tue, 14 Oct 2025) EndedAt: 2025-10-14 12:04:36 -0400 (Tue, 14 Oct 2025) EllapsedTime: 2.0 seconds RetCode: 0 Status: OK