Package: MSnbase Version: 2.37.0 Command: /home/rapidbuild/bbs-3.23-bioc-rapid/R/bin/R CMD INSTALL MSnbase StartedAt: 2025-10-31 06:23:48 -0400 (Fri, 31 Oct 2025) EndedAt: 2025-10-31 06:24:45 -0400 (Fri, 31 Oct 2025) EllapsedTime: 57.5 seconds RetCode: 0 Status: OK