Package: MSnbase Version: 2.37.0 Command: /home/rapidbuild/bbs-3.23-bioc-rapid/R/bin/R CMD build --keep-empty-dirs --no-resave-data MSnbase StartedAt: 2025-10-31 07:08:59 -0400 (Fri, 31 Oct 2025) EndedAt: 2025-10-31 07:11:30 -0400 (Fri, 31 Oct 2025) EllapsedTime: 151.8 seconds RetCode: 0 Status: OK PackageFile: MSnbase_2.37.0.tar.gz PackageFileSize: 7.616 MiB