Package: MLInterfaces Version: 1.89.0 Command: /home/rapidbuild/bbs-3.22-bioc-rapid/R/bin/R CMD INSTALL MLInterfaces StartedAt: 2025-10-10 06:18:07 -0400 (Fri, 10 Oct 2025) EndedAt: 2025-10-10 06:18:31 -0400 (Fri, 10 Oct 2025) EllapsedTime: 24.8 seconds RetCode: 0 Status: OK