Package: KEGGgraph Version: 1.71.0 Command: /home/rapidbuild/bbs-3.23-bioc-rapid/R/bin/R CMD INSTALL KEGGgraph StartedAt: 2025-11-22 06:12:33 -0500 (Sat, 22 Nov 2025) EndedAt: 2025-11-22 06:12:38 -0500 (Sat, 22 Nov 2025) EllapsedTime: 5.2 seconds RetCode: 0 Status: OK