Package: KEGGgraph Version: 1.71.0 Command: /home/rapidbuild/bbs-3.23-bioc-rapid/R/bin/R CMD build --keep-empty-dirs --no-resave-data KEGGgraph StartedAt: 2025-11-22 07:07:50 -0500 (Sat, 22 Nov 2025) EndedAt: 2025-11-22 07:08:19 -0500 (Sat, 22 Nov 2025) EllapsedTime: 29.0 seconds RetCode: 0 Status: OK PackageFile: KEGGgraph_1.71.0.tar.gz PackageFileSize: 1.315 MiB