Package: HDF5Array Version: 1.37.0 Command: /home/rapidbuild/bbs-3.22-bioc-rapid/R/bin/R CMD build --keep-empty-dirs --no-resave-data HDF5Array StartedAt: 2025-09-22 07:03:15 -0400 (Mon, 22 Sep 2025) EndedAt: 2025-09-22 07:14:09 -0400 (Mon, 22 Sep 2025) EllapsedTime: 653.6 seconds RetCode: 0 Status: OK PackageFile: HDF5Array_1.37.0.tar.gz PackageFileSize: 7.968 MiB