Package: Gviz Version: 1.55.0 Maintainer: Robert Ivanek MaintainerEmail: robert.ivanek at unibas.ch git_url: https://git.bioconductor.org/packages/Gviz git_branch: devel git_last_commit: 6339846 git_last_commit_date: 2025-10-29 10:10:17 -0400 (Wed, 29 Oct 2025)