Package: GenomicFeatures Version: 1.63.1 Command: /home/rapidbuild/bbs-3.23-bioc-rapid/R/bin/R CMD INSTALL GenomicFeatures StartedAt: 2025-10-31 06:22:31 -0400 (Fri, 31 Oct 2025) EndedAt: 2025-10-31 06:23:00 -0400 (Fri, 31 Oct 2025) EllapsedTime: 28.8 seconds RetCode: 0 Status: OK