Package: GenomicFeatures Version: 1.63.1 Command: /home/rapidbuild/bbs-3.23-bioc-rapid/R/bin/R CMD build --keep-empty-dirs --no-resave-data GenomicFeatures StartedAt: 2025-10-31 06:51:05 -0400 (Fri, 31 Oct 2025) EndedAt: 2025-10-31 06:52:32 -0400 (Fri, 31 Oct 2025) EllapsedTime: 86.9 seconds RetCode: 0 Status: OK PackageFile: GenomicFeatures_1.63.1.tar.gz PackageFileSize: 556.8 KiB