############################################################################## ############################################################################## ### ### Running command: ### ### /home/rapidbuild/bbs-3.23-bioc-rapid/R/bin/R CMD build --keep-empty-dirs --no-resave-data GenomicFeatures ### ############################################################################## ############################################################################## * checking for file ‘GenomicFeatures/DESCRIPTION’ ... OK * preparing ‘GenomicFeatures’: * checking DESCRIPTION meta-information ... OK * installing the package (it is needed to build vignettes) * creating vignettes ... OK * checking for LF line-endings in source and make files and shell scripts * checking for empty or unneeded directories * building ‘GenomicFeatures_1.63.1.tar.gz’