Package: GenomeInfoDb Version: 1.47.0 Command: /home/rapidbuild/bbs-3.23-bioc-rapid/R/bin/R CMD INSTALL GenomeInfoDb StartedAt: 2025-11-04 06:11:49 -0500 (Tue, 04 Nov 2025) EndedAt: 2025-11-04 06:11:55 -0500 (Tue, 04 Nov 2025) EllapsedTime: 6.2 seconds RetCode: 0 Status: OK