Package: GenomeInfoDb Version: 1.47.0 Command: /home/rapidbuild/bbs-3.23-bioc-rapid/R/bin/R CMD build --keep-empty-dirs --no-resave-data GenomeInfoDb StartedAt: 2025-11-03 06:48:23 -0500 (Mon, 03 Nov 2025) EndedAt: 2025-11-03 06:48:43 -0500 (Mon, 03 Nov 2025) EllapsedTime: 20.3 seconds RetCode: 0 Status: OK PackageFile: GenomeInfoDb_1.47.0.tar.gz PackageFileSize: 3.474 MiB