############################################################################## ############################################################################## ### ### Running command: ### ### /home/rapidbuild/bbs-3.23-bioc-rapid/R/bin/R CMD build --keep-empty-dirs --no-resave-data GenomeInfoDb ### ############################################################################## ############################################################################## * checking for file ‘GenomeInfoDb/DESCRIPTION’ ... OK * preparing ‘GenomeInfoDb’: * checking DESCRIPTION meta-information ... OK * installing the package (it is needed to build vignettes) * creating vignettes ... OK * checking for LF line-endings in source and make files and shell scripts * checking for empty or unneeded directories * building ‘GenomeInfoDb_1.47.0.tar.gz’