Package: GenomeInfoDb Version: 1.45.12 Maintainer: Hervé Pagès MaintainerEmail: hpages.on.github at gmail.com git_url: https://git.bioconductor.org/packages/GenomeInfoDb git_branch: devel git_last_commit: c9f8517 git_last_commit_date: 2025-09-30 08:48:00 -0400 (Tue, 30 Sep 2025)