Package: GOSemSim Version: 2.35.2 Command: /home/rapidbuild/bbs-3.22-bioc-rapid/R/bin/R CMD INSTALL GOSemSim StartedAt: 2025-10-23 06:15:07 -0400 (Thu, 23 Oct 2025) EndedAt: 2025-10-23 06:15:24 -0400 (Thu, 23 Oct 2025) EllapsedTime: 17.6 seconds RetCode: 0 Status: OK