Package: GOSemSim Version: 2.35.2 Command: /home/rapidbuild/bbs-3.22-bioc-rapid/R/bin/R CMD build --keep-empty-dirs --no-resave-data GOSemSim StartedAt: 2025-10-23 06:56:10 -0400 (Thu, 23 Oct 2025) EndedAt: 2025-10-23 06:56:30 -0400 (Thu, 23 Oct 2025) EllapsedTime: 20.0 seconds RetCode: 0 Status: OK PackageFile: GOSemSim_2.35.2.tar.gz PackageFileSize: 594.9 KiB