Package: GEOquery Version: 2.77.6 Command: /home/rapidbuild/bbs-3.22-bioc-rapid/R/bin/R CMD INSTALL GEOquery StartedAt: 2025-10-13 06:19:54 -0400 (Mon, 13 Oct 2025) EndedAt: 2025-10-13 06:20:14 -0400 (Mon, 13 Oct 2025) EllapsedTime: 19.4 seconds RetCode: 0 Status: OK