Package: GEOquery Version: 2.77.6 Command: /home/rapidbuild/bbs-3.22-bioc-rapid/R/bin/R CMD build --keep-empty-dirs --no-resave-data GEOquery StartedAt: 2025-10-14 06:56:01 -0400 (Tue, 14 Oct 2025) EndedAt: 2025-10-14 06:56:03 -0400 (Tue, 14 Oct 2025) EllapsedTime: 2.0 seconds RetCode: 0 Status: OK PackageFile: GEOquery_2.77.6.tar.gz PackageFileSize: 12.83 MiB