Package: ExperimentHubData Version: 1.35.0 Command: /home/rapidbuild/bbs-3.22-bioc-rapid/R/bin/R CMD INSTALL ExperimentHubData StartedAt: 2025-10-23 06:24:00 -0400 (Thu, 23 Oct 2025) EndedAt: 2025-10-23 06:24:33 -0400 (Thu, 23 Oct 2025) EllapsedTime: 32.4 seconds RetCode: 0 Status: OK