Package: ExperimentHubData Version: 1.35.0 Command: /home/rapidbuild/bbs-3.22-bioc-rapid/R/bin/R CMD build --keep-empty-dirs --no-resave-data ExperimentHubData StartedAt: 2025-10-23 06:45:40 -0400 (Thu, 23 Oct 2025) EndedAt: 2025-10-23 06:46:16 -0400 (Thu, 23 Oct 2025) EllapsedTime: 36.0 seconds RetCode: 0 Status: OK PackageFile: ExperimentHubData_1.35.0.tar.gz PackageFileSize: 222.9 KiB