Package: EnrichedHeatmap Version: 1.41.0 Command: /home/rapidbuild/bbs-3.23-bioc-rapid/R/bin/R CMD INSTALL EnrichedHeatmap StartedAt: 2025-10-31 06:13:28 -0400 (Fri, 31 Oct 2025) EndedAt: 2025-10-31 06:13:42 -0400 (Fri, 31 Oct 2025) EllapsedTime: 13.6 seconds RetCode: 0 Status: OK